BEGIN:VCALENDAR
VERSION:2.0
PRODID:-//project/author//NONSGML v1.0//EN
CALSCALE:GREGORIAN
BEGIN:VEVENT
DTEND;TZID=Europe/Vienna:20210113T170000
UID:598
DTSTAMP;TZID=Europe/Vienna:20260421T103700
LOCATION:KLI
SUMMARY:Lab Excursion of CogSci Students
DTSTART;TZID=Europe/Vienna:20210113T143000
END:VEVENT
END:VCALENDAR