BEGIN:VCALENDAR
VERSION:2.0
PRODID:-//project/author//NONSGML v1.0//EN
CALSCALE:GREGORIAN
BEGIN:VEVENT
DTEND;TZID=Europe/Vienna:20121129T131500
UID:250
DTSTAMP;TZID=Europe/Vienna:20260423T034354
LOCATION:KLI
SUMMARY:The Role of Syntax and Prosody in the Emergence of Language
DTSTART;TZID=Europe/Vienna:20121129T131500
END:VEVENT
END:VCALENDAR